BEGIN:VCALENDAR
VERSION:2.0
PRODID:-//OsseoDent™ - ECPv5.12.4//NONSGML v1.0//EN
CALSCALE:GREGORIAN
METHOD:PUBLISH
X-WR-CALNAME:OsseoDent™
X-ORIGINAL-URL:https://www.osseodent.com
X-WR-CALDESC:Events for OsseoDent™
BEGIN:VTIMEZONE
TZID:America/New_York
BEGIN:DAYLIGHT
TZOFFSETFROM:-0500
TZOFFSETTO:-0400
TZNAME:EDT
DTSTART:20240310T070000
END:DAYLIGHT
BEGIN:STANDARD
TZOFFSETFROM:-0400
TZOFFSETTO:-0500
TZNAME:EST
DTSTART:20241103T060000
END:STANDARD
END:VTIMEZONE
BEGIN:VEVENT
DTSTART;VALUE=DATE:20240801
DTEND;VALUE=DATE:20240805
DTSTAMP:20260423T043924
CREATED:20240425T000725Z
LAST-MODIFIED:20240425T002056Z
UID:29557-1722470400-1722815999@www.osseodent.com
SUMMARY:3-DAY Live Surgery Course
DESCRIPTION:Our Courses\n\n\n3-DAY Live Surgery Course\n\n\nOur program is designed to help you take your skills to the next level and achieve success as a dentist.By the end of the day\, you’ll have completed multiple implant placements and gained invaluable experience that you can immediately apply in your own practice.  \n\n\n\n\n\n\n\n\nDAY 0  –  Travel Day\n\n\n\n\n\nArrive at Santiago International Airport (STI).\n\n\nWelcome to Linkstone Implant Academy’s 3-DAY Live Surgery Course. \nWe will expect you to arrive at our facility for our dinner and didactic lecture for the next few days of classes. You’ll have the opportunity to meet and network with fellow students\, as well as faculty members who are leaders in the field of implant dentistry. Complimentary dinners and drinks are provided by Linkstone Implant Academy.  \n​ \n​ \n\n\n\n\n\n\n\n\nDAY 0:   (Continued)\n\n\nDidactic Lecture & CBCT Case Reviews (7:30 PM – 9:30 PM)\n\n\nAt 7:30 PM\, the didactic lecture will begin. Our faculty members have decades of combined experience and will share their expertise on various topics related to implant dentistry. You’ll learn everything from the basics of dental implant placement to advanced techniques like guided implant surgery. \nFollowing the didactic lecture\, you will have the opportunity to engage in a comprehensive review of each patient’s CBCT alongside our faculty members\, where you will gain invaluable insights into the most effective implant placement strategy for each unique case.  \n\n\n\n\n\n\n\n\n\n\n\n\n\n\n\n\n\n\n\n\n\n\n\n\n\n\n\n\n\n\n\n\n\n\n\n\n\nDAY 1 – Clinic Day (1)\n\n\nDAY 1 – Clinic Day (1):  8AM – 5PM\n\n\nFirst day of our class. You will have the opportunity to put what you’ve learned into practice. All cases will be treatment planned with faculty members and students together. This will allow for more personalized guidance as you place implants and perfect your technique. To ensure that you receive individualized attention\, one mentor will be assigned per operatory.  \nLunch will be provided by the Academy.  \n\n\n\n\n\n\n\n\nDAY 1:   (continued)\n\n\nDebrief and Q&A Sessions: Discuss today’s Cases \n\n\nAfter the implant cases have been completed for the day\, there will be a debrief and Q&A session every day. This is an opportunity for students to discuss the cases they worked on during the day and share their experiences. Faculty members will be available to answer any questions and provide additional insights into the implant placement process. The purpose of the debrief and Q&A session is to provide a comprehensive wrap-up to the day’s activities. \n\n\n\n\n\n\n\n\n\n\n\nDAY 2 – Clinic Day (2)\n\n\nDAY 2 – Clinic Day (2):  8AM – 5PM\n\n\nSame as Thursday\, but it will be in a faster pace since everyone knows what to do.  \n\n\n\n\n\n\n\n\nDAY 3 – Clinic Day (3)\n\n\nDAY 3 – Clinic Day (3):  8AM – 5PM\n\n\n​Same as Friday\, but it will be faster since everyone knows what to do. ​​By the end of the course\, You have…\n\n\nLearned how to make Treatment Planning with CBCT \n\n\nLearned where to place implants under the faculty’s guidance\n\n\nLearned Direct Surgical Implant Placement\n\n\nLearned Single\, Immediate Implant Placement\n\n\nLearned GBR / Sinus Lift\, PRF\n\n\n\n\nYou may leave on this day – only if you want. \n\n\n\n\n\n\n\n\n\n\n\n\n\nReceive CE 24.0 Credits\n\n\nReceive CE Credits from Academy of General Dentistry (AGD)\n\n\nBy participating in the Linkstone Implant Academy program\, you will receive CE 24.0 Credits from the Academy of General Dentistry (AGD). These credits will help you maintain your professional credentials and advance your career in implant dentistry. We are committed to providing a comprehensive educational experience that will enable you to excel in your practice and deliver the best possible care to your patients.
URL:https://www.osseodent.com/event/3-day-live-surgery-course/
LOCATION:Linkstone Surgical Training Center\, Santiago\, Dominican Republic
CATEGORIES:CE Credit Provided,Hands On Course
ATTACH;FMTTYPE=image/jpeg:https://www.osseodent.com/wp-content/uploads/2024/04/Linkstone-Courses-Logo.jpg
ORGANIZER;CN="Linkstone%20Implant%20Academy":MAILTO:info@linkstoneimplantacademy.com
END:VEVENT
END:VCALENDAR