BEGIN:VCALENDAR
VERSION:2.0
PRODID:-//OsseoDent™ - ECPv5.12.4//NONSGML v1.0//EN
CALSCALE:GREGORIAN
METHOD:PUBLISH
X-WR-CALNAME:OsseoDent™
X-ORIGINAL-URL:https://www.osseodent.com
X-WR-CALDESC:Events for OsseoDent™
BEGIN:VTIMEZONE
TZID:America/New_York
BEGIN:DAYLIGHT
TZOFFSETFROM:-0500
TZOFFSETTO:-0400
TZNAME:EDT
DTSTART:20180311T070000
END:DAYLIGHT
BEGIN:STANDARD
TZOFFSETFROM:-0400
TZOFFSETTO:-0500
TZNAME:EST
DTSTART:20181104T060000
END:STANDARD
END:VTIMEZONE
BEGIN:VEVENT
DTSTART;TZID=America/New_York:20180628T180000
DTEND;TZID=America/New_York:20180628T210000
DTSTAMP:20260423T052154
CREATED:20180428T134557Z
LAST-MODIFIED:20180502T115655Z
UID:8913-1530208800-1530219600@www.osseodent.com
SUMMARY:Naples: Dr Amos Yahav - Bone Graft Cements: A New Paradigm for Bone Regeneration
DESCRIPTION:  \nDr Amos Yahav lives in Israel\, he is the inventor and patent holder for “Biphasic Calcium Sulfate”. He will explain and demonstrate the truly ground-breaking results in socket preservations\, lateral augmentations and other types of bone regeneration procedures that this unique technology provides \nThe purpose of this event is to shed light on the evolution of bone augmentation materials. Exploring the potential and the new opportunities by bone grafting cement. Emphasizing the advantages\, disadvantages and methods of use\, from a scientific and clinical points of views. \nFor more information\, tickets and reservations www.osseodent.com/seminar or contact Amanda amanda@osseodent.com (239)734-5432 \n  \n\n3 course dinner is included\n2 Hours of CE credit\nHands on training\nThe $59.95 cost will be credited towards the purchase of any special offers\n\n  \n \n 
URL:https://www.osseodent.com/event/dr-amos-yahav-naples/
LOCATION:De Romo’s Gourmet Market & Restaurant\, 26811 South Bay Dr. Suites 140 & 148\, Bonita Springs\, FL\, 34134\, United States
CATEGORIES:CE Credit Provided,Dinner Lecture,Hands On Course
ATTACH;FMTTYPE=image/jpeg:https://www.osseodent.com/wp-content/uploads/2018/04/deromos.jpg
END:VEVENT
END:VCALENDAR