BEGIN:VCALENDAR
VERSION:2.0
PRODID:-//OsseoDent™ - ECPv5.12.4//NONSGML v1.0//EN
CALSCALE:GREGORIAN
METHOD:PUBLISH
X-WR-CALNAME:OsseoDent™
X-ORIGINAL-URL:https://www.osseodent.com
X-WR-CALDESC:Events for OsseoDent™
BEGIN:VTIMEZONE
TZID:America/New_York
BEGIN:DAYLIGHT
TZOFFSETFROM:-0500
TZOFFSETTO:-0400
TZNAME:EDT
DTSTART:20170312T070000
END:DAYLIGHT
BEGIN:STANDARD
TZOFFSETFROM:-0400
TZOFFSETTO:-0500
TZNAME:EST
DTSTART:20171105T060000
END:STANDARD
END:VTIMEZONE
BEGIN:VEVENT
DTSTART;TZID=America/New_York:20171202T090000
DTEND;TZID=America/New_York:20171202T170000
DTSTAMP:20260423T052121
CREATED:20171114T201219Z
LAST-MODIFIED:20171114T203133Z
UID:8750-1512205200-1512234000@www.osseodent.com
SUMMARY:Dr. Samuel Lee: Vertical and Horizontal Bone Augmentation
DESCRIPTION:Previous\nNext\n\n\n\n\n\n\n\n\n\nVertical and Horizontal Bone Augmentation; Treatment of Severely Resorbed Ridges for Succesful Implant Therapy\n\n\n\nDescription:\nDental implant surgery is very predictable treatment.  However\, it is very common to encounter severely resorbed ridges\, which makes dental implant treatment difficult.  In this presentation\, Dr. Lee will present many innovative options to overcome pneumatized sinus\, thin ridges\, and loss of vertical bone heights.\nDiagnosis and guidelines for these treatment will be reviewed concisely.\n– Diagnosis and treatment planning for Implant Treatment will be discussed.\n– New sinus classification developed by Dr. Lee\, which simplifies the treatment of pneumatized sinus will be discussed.\n– Simplified GBR technique will be discussed\n– New autogenous bone harvesting technique will be introduced.\n– Easier mandibular ridge splitting technique will be introduced\n– Biological modifiers will be discussed.\n– Non-traumatic Nerve Lateralization Technique will be introduced\n– Cases involving multidiscipline specialties will be presented.\n\n\n\n\n\n\n\n\n\n\n\nSchedule\n\nDecember 2\, 2017\nFor more information or to reserve your spot please contact DTC MIAMI× \n\n\n\n\n\n\n\n\n\nSpeaker\n\nDr. Samuel Lee \n\n\n\n\n\n\n\n\n\n\nDr. Samuel Lee is a Diplomate of International Academy of Dental Implantology. He is a graduate of Harvard School of Dental Medicine in specialty degree in Periodontology\, and has earned his Doctor of Medical Science. He has invented ultra low dosage 3d imaging technique while at Harvard\, and has obtained US patent.  Dr Lee grew up in California.  After completing his bachelorʼs degree in Microbiology and Molecular Genetics at UCLA\, Dr. Samuel Lee furthered his studies in Dentistry from the UCLA School of Dentistry. He then practiced implant dentistry and orthodontics in a private practice in Buena Park\, California.  He has won the 1st Award at many prestigious organization: The 2008 American Academy of Implant Dentistry (AAID) Table Clinic Presentation\, the 2007 American Orthodontic Society (AOS)\, and the 2007 International Congress of Oral Implantologists(ICOI).   He is the inventor of “Crestal Window Sinus Grafting Technique\,” and owns the patent on his sinus instruments. He currently teaches internationally on his sinus techniques and TAD to specialists\, general dentist\, and dental schools.
URL:https://www.osseodent.com/event/dr-samuel-lee-vertical-and-horizontal-bone-augmentation/
CATEGORIES:Hands On Course
ATTACH;FMTTYPE=image/png:https://www.osseodent.com/wp-content/uploads/2017/11/DTC-lee.png
END:VEVENT
END:VCALENDAR