BEGIN:VCALENDAR
VERSION:2.0
PRODID:-//OsseoDent™ - ECPv5.12.4//NONSGML v1.0//EN
CALSCALE:GREGORIAN
METHOD:PUBLISH
X-WR-CALNAME:OsseoDent™
X-ORIGINAL-URL:https://www.osseodent.com
X-WR-CALDESC:Events for OsseoDent™
BEGIN:VTIMEZONE
TZID:America/New_York
BEGIN:DAYLIGHT
TZOFFSETFROM:-0500
TZOFFSETTO:-0400
TZNAME:EDT
DTSTART:20200308T070000
END:DAYLIGHT
BEGIN:STANDARD
TZOFFSETFROM:-0400
TZOFFSETTO:-0500
TZNAME:EST
DTSTART:20201101T060000
END:STANDARD
END:VTIMEZONE
BEGIN:VEVENT
DTSTART;TZID=America/New_York:20200430T120000
DTEND;TZID=America/New_York:20200430T130000
DTSTAMP:20260423T050549
CREATED:20200425T220542Z
LAST-MODIFIED:20200425T221050Z
UID:18804-1588248000-1588251600@www.osseodent.com
SUMMARY:Revision de técnicas en Aumentos Oseos: Podemos mejorar los protocolos?”
DESCRIPTION:  \nResumen de la conferencia: \n\nAnálisis de las principales técnicas para aumentos óseos verticales y horizontales.\nComparación de protocolos\, morbilidad\, costos y posibles complicaciones.\nAnálisis de las principales técnicas para aumentos óseos verticales y horizontales.\nCuál es la técnica que funciona mejor.\nBiomateriales disponibles en el mercado.\nCantidad del aumento óseo obtenido por cada técnica.\nComparación de protocolos\, morbilidad asociada\, costos y posibles complicaciones.\n1 CE para professionales de USA\n\nRegistrarse aqui: https://osseodent.info/2KBhtfO \n 
URL:https://www.osseodent.com/event/revision-de-tecnicas-en-aumentos-oseos-podemos-mejorar-los-protocolos/
CATEGORIES:CE Credit Provided,Webinar
END:VEVENT
END:VCALENDAR